BEGIN:VCALENDAR
VERSION:2.0
PRODID:-//Run Wales - ECPv5.12.3//NONSGML v1.0//EN
CALSCALE:GREGORIAN
METHOD:PUBLISH
X-WR-CALNAME:Run Wales
X-ORIGINAL-URL:https://irun.wales
X-WR-CALDESC:Events for Run Wales
REFRESH-INTERVAL;VALUE=DURATION:PT1H
X-Robots-Tag:noindex
X-PUBLISHED-TTL:PT1H
BEGIN:VTIMEZONE
TZID:Europe/London
BEGIN:DAYLIGHT
TZOFFSETFROM:+0000
TZOFFSETTO:+0100
TZNAME:BST
DTSTART:20220327T010000
END:DAYLIGHT
BEGIN:STANDARD
TZOFFSETFROM:+0100
TZOFFSETTO:+0000
TZNAME:GMT
DTSTART:20221030T010000
END:STANDARD
END:VTIMEZONE
BEGIN:VEVENT
DTSTART;TZID=Europe/London:20220423T110000
DTEND;TZID=Europe/London:20220423T160000
DTSTAMP:20260426T025052
CREATED:20220401T083328Z
LAST-MODIFIED:20220401T083328Z
UID:11409-1650711600-1650729600@irun.wales
SUMMARY:Run Wales Relays - Llandudno
DESCRIPTION:Following the success of the Run Wales relays at Pembrey Country Park\, we’re delighted that North Wales Regional Athletics Council are supporting us to include our registered social running groups as part of their North Wales Relay Championships. \nThe relay takes place on Saturday 23rd April 2022\, starting on the prom in Llandudno. \nThe first race will start at 11am and will follow a 1km outward route starting along the promenade opposite Venue Cymru to the Cenotaph. Runners will complete laps back and forth of 4km\, i.e. 2 x 2km laps\, as part of a three-person relay team. \nRun Wales registered groups can enter a team of 3 people (aged over 18) and can be mixed ages and gender. \nA great opportunity for a fun and friendly event. \nGroups can enter as many teams as they like but each team must use your group team with a slight variation per name\, e.g. Rhyl Runners A\, Rhyl Runners B etc.\nNorth Wales Relays
URL:https://irun.wales/event/run-wales-relays-llandudno/
LOCATION:Venue Cymru\, LL30 1BB
END:VEVENT
END:VCALENDAR