BEGIN:VCALENDAR
VERSION:2.0
PRODID:-//Run Wales - ECPv5.12.3//NONSGML v1.0//EN
CALSCALE:GREGORIAN
METHOD:PUBLISH
X-WR-CALNAME:Run Wales
X-ORIGINAL-URL:https://irun.wales
X-WR-CALDESC:Events for Run Wales
REFRESH-INTERVAL;VALUE=DURATION:PT1H
X-Robots-Tag:noindex
X-PUBLISHED-TTL:PT1H
BEGIN:VTIMEZONE
TZID:Europe/London
BEGIN:DAYLIGHT
TZOFFSETFROM:+0000
TZOFFSETTO:+0100
TZNAME:BST
DTSTART:20220327T010000
END:DAYLIGHT
BEGIN:STANDARD
TZOFFSETFROM:+0100
TZOFFSETTO:+0000
TZNAME:GMT
DTSTART:20221030T010000
END:STANDARD
END:VTIMEZONE
BEGIN:VEVENT
DTSTART;TZID=Europe/London:20220503T190000
DTEND;TZID=Europe/London:20220503T200000
DTSTAMP:20260426T002024
CREATED:20220401T082733Z
LAST-MODIFIED:20220412T143059Z
UID:11407-1651604400-1651608000@irun.wales
SUMMARY:Running Psychology Programme from I Think Sport 4
DESCRIPTION:PERFORMANCE ANXIETY WORKSHOP\nAs you get closer to the event(s) that you’ve entered\, you might experience a build up of anxiety. It’s not uncommon to experience an increase in negative thoughts\, overwhelming emotions and even thoughts about pulling out. That’s why the final workshop will cover the following: \n* What Performance Anxiety is\n* Mental and Physical ‘red flags’\n* Practical tools to manage Performance Anxiety better \nREGISTER TO ACCESS THE WORKSHOPS\nRegister now to receive the Zoom invitations for the workshops which will be at 7pm every Tuesday in April. Don’t worry if you can’t make the live session – everyone who registers for the workshop will be able to access the recorded session after the event. \nFor free access to this series of workshops and many more benefits\, join Clwb Run Wales\, the nation’s largest virtual running club!
URL:https://irun.wales/event/running-psychology-programme-from-i-think-sport-4/
LOCATION:Online
END:VEVENT
END:VCALENDAR